Workbook

Sheet Long-term storage requirements
A1: Scenario | B1: Year | C1: Forecasted Unit Growth Rate | D1: Forecasted Demand (units) | E1: Forecasted unit Turn Rate | F1: Average Inventory Level | G1: Units per Pallet | H1: Average Pallets On Hand | I1: Peak to Average Inventory Ratio | J1: Peak pallet inventory | K1: Percent of Peak for Planning | L1: Effective pallet storage capacity | M1: Maximum Pallet Location Utilization | N1: Required Pallet Positions | O1: Storage density (sq. ft per pallet position) | P1: Floor space Requirements (sq. ft) | Q1: Occupancy Cost per sq. ft | R1: Annual Occupancy cost
A2: Baseline | B2: 1 | C2: 0.03 | D2: 275629 | E2: 6.2 | F2: =D2/E2 -> 44456.29 | G2: 43 | H2: =F2/G2 -> 1033.8672 | I2: 1.08 | J2: =H2*I2 -> 1116.5766 | K2: 0.92 | L2: =J2*K2 -> 1027.2505 | M2: 0.8 | N2: =L2/M2 -> 1284.0631 | O2: ='Sq. ft. per pallet position'!$O$2 -> 10.143229 | P2: =N2*O2 -> 13024.546 | Q2: 7.85 | R2: =Q2*P2 -> 102242.69
B3: 2 | C3: 0.05 | D3: 289410 | E3: 6.4 | F3: =D3/E3 -> 45220.312 | G3: 40 | H3: =F3/G3 -> 1130.5078 | I3: 1.09 | J3: =H3*I3 -> 1232.2535 | K3: 0.92 | L3: =J3*K3 -> 1133.6732 | M3: 0.8 | N3: =L3/M3 -> 1417.0915 | O3: ='Sq. ft. per pallet position'!$O$2 -> 10.143229 | P3: =N3*O3 -> 14373.884 | Q3: 8 | R3: =Q3*P3 -> 114991.07
B4: 3 | C4: 0.06 | D4: 306775 | E4: 7.1 | F4: =D4/E4 -> 43207.746 | G4: 38 | H4: =F4/G4 -> 1137.046 | I4: 1.1 | J4: =H4*I4 -> 1250.7506 | K4: 0.93 | L4: =J4*K4 -> 1163.198 | M4: 0.8 | N4: =L4/M4 -> 1453.9975 | O4: ='Sq. ft. per pallet position'!$O$2 -> 10.143229 | P4: =N4*O4 -> 14748.23 | Q4: 8.15 | R4: =Q4*P4 -> 120198.08
B5: 4 | C5: 0.07 | D5: 328249 | E5: 7.2 | F5: =D5/E5 -> 45590.139 | G5: 38 | H5: =F5/G5 -> 1199.7405 | I5: 1.12 | J5: =H5*I5 -> 1343.7094 | K5: 0.93 | L5: =J5*K5 -> 1249.6497 | M5: 0.8 | N5: =L5/M5 -> 1562.0621 | O5: ='Sq. ft. per pallet position'!$O$2 -> 10.143229 | P5: =N5*O5 -> 15844.354 | Q5: 8.25 | R5: =Q5*P5 -> 130715.92
B6: 5 | C6: 0.08 | D6: 354509 | E6: 7.3 | F6: =D6/E6 -> 48562.877 | G6: 35 | H6: =F6/G6 -> 1387.5108 | I6: 1.15 | J6: =H6*I6 -> 1595.6374 | K6: 0.94 | L6: =J6*K6 -> 1499.8991 | M6: 0.8 | N6: =L6/M6 -> 1874.8739 | O6: ='Sq. ft. per pallet position'!$O$2 -> 10.143229 | P6: =N6*O6 -> 19017.276 | Q6: 8.5 | R6: =Q6*P6 -> 161646.84
B7: 6 | C7: 0.08 | D7: 382870 | E7: 7.5 | F7: =D7/E7 -> 51049.333 | G7: 35 | H7: =F7/G7 -> 1458.5524 | I7: 1.15 | J7: =H7*I7 -> 1677.3352 | K7: 0.94 | L7: =J7*K7 -> 1576.6951 | M7: 0.8 | N7: =L7/M7 -> 1970.8689 | O7: ='Sq. ft. per pallet position'!$O$2 -> 10.143229 | P7: =N7*O7 -> 19990.975 | Q7: 8.75 | R7: =Q7*P7 -> 174921.03
B8: 7 | C8: 0.05 | D8: 402014 | E8: 7.5 | F8: =D8/E8 -> 53601.867 | G8: 30 | H8: =F8/G8 -> 1786.7289 | I8: 1.2 | J8: =H8*I8 -> 2144.0747 | K8: 0.95 | L8: =J8*K8 -> 2036.8709 | M8: 0.8 | N8: =L8/M8 -> 2546.0887 | O8: ='Sq. ft. per pallet position'!$O$2 -> 10.143229 | P8: =N8*O8 -> 25825.561 | Q8: 9 | R8: =Q8*P8 -> 232430.05
B9: 8 | C9: 0.05 | D9: 422114 | E9: 7.5 | F9: =D9/E9 -> 56281.867 | G9: 30 | H9: =F9/G9 -> 1876.0622 | I9: 1.2 | J9: =H9*I9 -> 2251.2747 | K9: 0.95 | L9: =J9*K9 -> 2138.7109 | M9: 0.8 | N9: =L9/M9 -> 2673.3887 | O9: ='Sq. ft. per pallet position'!$O$2 -> 10.143229 | P9: =N9*O9 -> 27116.794 | Q9: 9.25 | R9: =Q9*P9 -> 250830.34
B10: 9 | C10: 0.04 | D10: 438999 | E10: 7.5 | F10: =D10/E10 -> 58533.2 | G10: 30 | H10: =F10/G10 -> 1951.1067 | I10: 1.25 | J10: =H10*I10 -> 2438.8833 | K10: 0.96 | L10: =J10*K10 -> 2341.328 | M10: 0.8 | N10: =L10/M10 -> 2926.66 | O10: ='Sq. ft. per pallet position'!$O$2 -> 10.143229 | P10: =N10*O10 -> 29685.783 | Q10: 9.5 | R10: =Q10*P10 -> 282014.94
B11: 10 | C11: 0.04 | D11: 456559 | E11: 7.5 | F11: =D11/E11 -> 60874.533 | G11: 30 | H11: =F11/G11 -> 2029.1511 | I11: 1.25 | J11: =H11*I11 -> 2536.4389 | K11: 0.96 | L11: =J11*K11 -> 2434.9813 | M11: 0.8 | N11: =L11/M11 -> 3043.7267 | O11: ='Sq. ft. per pallet position'!$O$2 -> 10.143229 | P11: =N11*O11 -> 30873.217 | Q11: 9.75 | R11: =Q11*P11 -> 301013.87

Sheet Long-term space requirements
A1: Activity | B1: Year 1 | C1: Year 2 | D1: Year 3 | E1: Year 4 | F1: Year 5 | G1: Year 6 | H1: Year 7 | I1: Year 8 | J1: Year 9 | K1: Year 10
A2: Receiving Staging | B2: 20000 | C2: 20600 | D2: 21218 | E2: 21855 | F2: 22510 | G2: 23185 | H2: 23881 | I2: 24597 | J2: 25335 | K2: 26095
A3: Receiving Inspection | B3: 10000 | C3: 10300 | D3: 10609 | E3: 10927 | F3: 11255 | G3: 11593 | H3: 11941 | I3: 12299 | J3: 12668 | K3: 13048
A4: Putaway Staging | B4: 15000 | C4: 15450 | D4: 15914 | E4: 16391 | F4: 16883 | G4: 17389 | H4: 17911 | I4: 18448 | J4: 19002 | K4: 19572
A5: Pallet Storage | B5: 120000 | C5: 123600 | D5: 127308 | E5: 131127 | F5: 135061 | G5: 139113 | H5: 143286 | I5: 147585 | J5: 152012 | K5: 156573
A6: Case Picking | B6: 30000 | C6: 30900 | D6: 31827 | E6: 32782 | F6: 33765 | G6: 34778 | H6: 35822 | I6: 36896 | J6: 38003 | K6: 39143
A7: Piece Picking | B7: 10000 | C7: 10300 | D7: 10609 | E7: 10927 | F7: 11255 | G7: 11593 | H7: 11941 | I7: 12299 | J7: 12668 | K7: 13048
A8: Order Assembly | B8: 40000 | C8: 41200 | D8: 42436 | E8: 43709 | F8: 45020 | G8: 46371 | H8: 47762 | I8: 49195 | J8: 50671 | K8: 52191
A9: Packing | B9: 15000 | C9: 15450 | D9: 15914 | E9: 16391 | F9: 16883 | G9: 17389 | H9: 17911 | I9: 18448 | J9: 19002 | K9: 19572
A10: Shipping Staging | B10: 20000 | C10: 20600 | D10: 21218 | E10: 21855 | F10: 22510 | G10: 23185 | H10: 23881 | I10: 24597 | J10: 25335 | K10: 26095
A11: Returns | B11: 12000 | C11: 12360 | D11: 12731 | E11: 13333 | F11: 13506 | G11: 13911 | H11: 14329 | I11: 14758 | J11: 15201 | K11: 15657
A12: Sub Total 1 | B12: =SUM(B2:B11) -> 292000 | C12: =SUM(C2:C11) -> 300760 | D12: =SUM(D2:D11) -> 309784 | E12: =SUM(E2:E11) -> 319297 | F12: =SUM(F2:F11) -> 328648 | G12: =SUM(G2:G11) -> 338507 | H12: =SUM(H2:H11) -> 348665 | I12: =SUM(I2:I11) -> 359122 | ... K12: =SUM(K2:K11) -> 380994
A13: Main Aisles | B13: 43800 | C13: 45114 | D13: 46467 | E13: 47861 | F13: 49297 | G13: 50776 | H13: 52299 | I13: 53868 | J13: 55485 | K13: 57149
A14: Sub Total 2 | B14: =SUM(B12:B13) -> 335800 | C14: =SUM(C12:C13) -> 345874 | D14: =SUM(D12:D13) -> 356251 | E14: =SUM(E12:E13) -> 367158 | F14: =SUM(F12:F13) -> 377945 | G14: =SUM(G12:G13) -> 389283 | H14: =SUM(H12:H13) -> 400964 | I14: =SUM(I12:I13) -> 412990 | ... K14: =SUM(K12:K13) -> 438143
A15: Offices | B15: 18000 | C15: 18540 | D15: 19096 | E15: 19669 | F15: 20259 | G15: 20867 | H15: 21493 | I15: 22138 | J15: 22802 | K15: 23486
A16: Restrooms | B16: 6000 | C16: 6180 | D16: 6365 | E16: 6556 | F16: 6753 | G16: 6956 | H16: 7164 | I16: 7379 | J16: 7601 | K16: 7829
A17: TOTAL | B17: =SUM(B14:B16) -> 359800 | C17: =SUM(C14:C16) -> 370594 | D17: =SUM(D14:D16) -> 381712 | E17: =SUM(E14:E16) -> 393383 | F17: =SUM(F14:F16) -> 404957 | G17: =SUM(G14:G16) -> 417106 | H17: =SUM(H14:H16) -> 429621 | I17: =SUM(I14:I16) -> 442507 | ... K17: =SUM(K14:K16) -> 469458

Sheet Sq. ft. per pallet position
A1: Forklift type | B1: Clear height (ft) | C1: Aisle (in) (1) | D1: Levels (2) | E1: Pallet Space (in) | F1: Beam length (in) | G1: Clear flue space (in) | H1: Back-to-Back Space (in) | I1: N. of pallets in storage unit | J1: Depth (single- or double-deep) | K1: Storage unit depth (in) | L1: Storage unit width (in) | M1: Sq. ft. of storage unit | N1: Sq. ft. per pallet footprint | O1: Sq. ft. per pallet position
A2: Counterbalanced | B2: 21 | C2: 144 | D2: 4 | E2: 4 | F2: 92 | G2: 6 | H2: 0 | I2: 4 | J2: 1 | K2: =2*J2*$B$20 + C2+G2 -> 246 | L2: =2*$C$20+3*E2 + $C$22 -> 95 | M2: =K2*L2/144 -> 162.29167 | N2: =M2/I2 -> 40.572917 | O2: =N2/D2 -> 10.143229
A3: Reach-Fork Truck | B3: 21 | C3: 105 | D3: 4 | E3: 4 | F3: 92 | G3: 6 | H3: 0 | I3: 4 | J3: 1 | K3: =2*J3*$B$20 + C3+G3 -> 207 | L3: =2*$C$20+3*E3 + $C$22 -> 95 | M3: =K3*L3/144 -> 136.5625 | N3: =M3/I3 -> 34.140625 | O3: =N3/D3 -> 8.5351562
B4: 27 | C4: 105 | D4: 5 | E4: 4 | F4: 92 | G4: 6 | H4: 0 | I4: 4 | J4: 1 | K4: =2*J4*$B$20 + C4+G4 -> 207 | L4: =2*$C$20+3*E4 + $C$22 -> 95 | M4: =K4*L4/144 -> 136.5625 | N4: =M4/I4 -> 34.140625 | O4: =N4/D4 -> 6.828125
B5: 40 | C5: 115 | D5: 8 | E5: 4 | F5: 92 | G5: 6 | H5: 0 | I5: 4 | J5: 1 | K5: =2*J5*$B$20 + C5+G5 -> 217 | L5: =2*$C$20+3*E5 + $C$22 -> 95 | M5: =K5*L5/144 -> 143.15972 | N5: =M5/I5 -> 35.789931 | O5: =N5/D5 -> 4.4737413
A6: Deep-Reach Truck (3) | B6: 27 | C6: 105 | D6: 5 | E6: 6 | F6: 98 | G6: 6 | H6: 2 | I6: 8 | J6: 2 | K6: =2*J6*$B$20 + C6+G6 -> 303 | L6: =2*$C$20+3*E6 + $C$22 -> 101 | M6: =K6*L6/144 -> 212.52083 | N6: =M6/I6 -> 26.565104 | O6: =N6/D6 -> 5.3130208
B7: 40 | C7: 112 | D7: 8 | E7: 6 | F7: 98 | G7: 6 | H7: 2 | I7: 8 | J7: 2 | K7: =2*J7*$B$20 + C7+G7 -> 310 | L7: =2*$C$20+3*E7 + $C$22 -> 101 | M7: =K7*L7/144 -> 217.43056 | N7: =M7/I7 -> 27.178819 | O7: =N7/D7 -> 3.3973524
A8: Swing-Reach Truck | B8: 21 | C8: 66 | D8: 4 | E8: 4 | F8: 92 | G8: 6 | H8: 0 | I8: 4 | J8: 1 | K8: =2*J8*$B$20 + C8+G8 -> 168 | L8: =2*$C$20+3*E8 + $C$22 -> 95 | M8: =K8*L8/144 -> 110.83333 | N8: =M8/I8 -> 27.708333 | O8: =N8/D8 -> 6.9270833
B9: 27 | C9: 66 | D9: 5 | E9: 4 | F9: 92 | G9: 6 | H9: 0 | I9: 4 | J9: 1 | K9: =2*J9*$B$20 + C9+G9 -> 168 | L9: =2*$C$20+3*E9 + $C$22 -> 95 | M9: =K9*L9/144 -> 110.83333 | N9: =M9/I9 -> 27.708333 | O9: =N9/D9 -> 5.5416667
B10: 45 | C10: 72 | D10: 9 | E10: 4 | F10: 92 | G10: 6 | H10: 0 | I10: 4 | J10: 1 | K10: =2*J10*$B$20 + C10+G10 -> 174 | L10: =2*$C$20+3*E10 + $C$22 -> 95 | M10: =K10*L10/144 -> 114.79167 | N10: =M10/I10 -> 28.697917 | O10: =N10/D10 -> 3.1886574
B11: 55 | C11: 74 | D11: 11 | E11: 4 | F11: 92 | G11: 6 | H11: 0 | I11: 4 | J11: 1 | K11: =2*J11*$B$20 + C11+G11 -> 176 | L11: =2*$C$20+3*E11 + $C$22 -> 95 | M11: =K11*L11/144 -> 116.11111 | N11: =M11/I11 -> 29.027778 | O11: =N11/D11 -> 2.6388889
A12: Transtacker (TRT) | B12: 64 | C12: 56 | D12: 13 | E12: 4 | F12: 92 | G12: 6 | H12: 0 | I12: 4 | J12: 1 | K12: =2*J12*$B$20 + C12+G12 -> 158 | L12: =2*$C$20+3*E12 + $C$22 -> 95 | M12: =K12*L12/144 -> 104.23611 | N12: =M12/I12 -> 26.059028 | O12: =N12/D12 -> 2.0045406
A14: (1) Aisle dimensions are minimum aisle requirements | H14: Calculations
A15: (2) Levels are based on clear height and/or 2,500 pound capacity requirement of vehicle | H15: Storage unit = (Storage unit width * Storage unit depth / 144)/ N. of pallets in unit
A16: (3) Straddle Method (6" pallet space between loads) | H16: Storage unit width = N. of pallets in storage unit + 3*Pallet space + Rack upright
A17: NOTE: Examples do not account for intersecting aisles, column placement, dock area, etc. | H17: Storage unit depth = 2*Depth + Aisle + Flue
B19: Length (in) | C19: Width (in) | D19: Height (in) | H19: 1 ft = 12 in (12 x 12 = 144)
A20: Load size | B20: 48 | C20: 40 | D20: 48
A21: Load beams | B21: 4
A22: Rack uprights | C22: 3 | E22: TRT requires 5"
A23: Lift off | D23: 4 | E23: Varies from 4" to 10"
A24: Bay opening | D24: 54
A27: Raymond Forklifts & Precision Manufacturing

Sheet Item storage requirements
A1: Item code | B1: Carton dimensions | F1: Cartons per pallet | G1: Cartons per layer | H1: Layers high | I1: Pallet weight inc 20 kg* | J1: Pallet height inc height of empty pallet (15 cm) | K1: Total number of cartons | L1: Number of pallets positions
B2: Length (cm) | C2: Width (cm) | D2: Height (cm) | E2: Weight (kg)
A3: 10779 | B3: 25 | C3: 40 | D3: 20 | E3: 15 | F3: 48 | G3: 12 | H3: 4 | I3: =E3*F3+20 -> 740 | J3: 95 | K3: 240 | L3: =K3/F3 -> 5
A4: 30456 | B4: 10 | C4: 10 | D4: 15 | E4: 15 | F4: N/A | G4: N/A | H4: N/A | I4: N/A | J4: N/A | K4: 16 | L4: <1
A5: 77021 | B5: 10 | C5: 15 | D5: 10 | E5: 0.75 | F5: 800 | G5: 80 | H5: 10 | I5: =E5*F5+20 -> 620 | J5: 115 | K5: 800 | L5: =K5/F5 -> 1
A6: * Pallets have different weights

Sheet Item storage method options
A1: Item code | B1: Characteristics | C1: Pallets in store | D1: Fast/medium/ slow mover | E1: Order quantity | F1: Stackable | G1: Storage method | H1: Handling method | I1: Group
A2: 10356 | B2: Standard | C2: 300 | D2: Fast | E2: Full pallet | F2: No | G2: Drive through | H2: Cbt or reach | I2: 1
A3: 10672 | B3: Standard | C3: 18 | D3: Medium | E3: Cartons | F3: No | G3: Wide aisle | H3: Reach & ppt | I3: 2.1
A4: 10779 | B4: Standard | C4: 5 | D4: Slow | E4: Cartons | F4: Yes | G4: Wide aisle | H4: Reach & ppt | I4: 2.2
A5: 30456 | B5: High value/small part | C5: >1 | D5: Slow | E5: Units | F5: N/A | G5: Carousel | H5: Hand | I5: 4
A6: 77021 | B6: High value | C6: 1 | D6: Medium | E6: Units | F6: N/A | G6: Security cage shelving | H6: Hand | I6: 5
A7: Cbt: counterbalance forklift truck
A8: ppt: powered pallet truck
